BEGIN:VCALENDAR
VERSION:2.0
PRODID:-//Spectrum Board and Executive Search - ECPv6.15.13.1//NONSGML v1.0//EN
CALSCALE:GREGORIAN
METHOD:PUBLISH
X-WR-CALNAME:Spectrum Board and Executive Search
X-ORIGINAL-URL:https://spectrum-ehcs.com
X-WR-CALDESC:Events for Spectrum Board and Executive Search
REFRESH-INTERVAL;VALUE=DURATION:PT1H
X-Robots-Tag:noindex
X-PUBLISHED-TTL:PT1H
BEGIN:VTIMEZONE
TZID:Europe/London
BEGIN:DAYLIGHT
TZOFFSETFROM:+0000
TZOFFSETTO:+0100
TZNAME:BST
DTSTART:20230326T010000
END:DAYLIGHT
BEGIN:STANDARD
TZOFFSETFROM:+0100
TZOFFSETTO:+0000
TZNAME:GMT
DTSTART:20231029T010000
END:STANDARD
BEGIN:DAYLIGHT
TZOFFSETFROM:+0000
TZOFFSETTO:+0100
TZNAME:BST
DTSTART:20240331T010000
END:DAYLIGHT
BEGIN:STANDARD
TZOFFSETFROM:+0100
TZOFFSETTO:+0000
TZNAME:GMT
DTSTART:20241027T010000
END:STANDARD
BEGIN:DAYLIGHT
TZOFFSETFROM:+0000
TZOFFSETTO:+0100
TZNAME:BST
DTSTART:20250330T010000
END:DAYLIGHT
BEGIN:STANDARD
TZOFFSETFROM:+0100
TZOFFSETTO:+0000
TZNAME:GMT
DTSTART:20251026T010000
END:STANDARD
BEGIN:DAYLIGHT
TZOFFSETFROM:+0000
TZOFFSETTO:+0100
TZNAME:BST
DTSTART:20260329T010000
END:DAYLIGHT
BEGIN:STANDARD
TZOFFSETFROM:+0100
TZOFFSETTO:+0000
TZNAME:GMT
DTSTART:20261025T010000
END:STANDARD
END:VTIMEZONE
BEGIN:VEVENT
DTSTART;TZID=Europe/London:20251111T183000
DTEND;TZID=Europe/London:20251111T210000
DTSTAMP:20260422T112315
CREATED:20251006T104300Z
LAST-MODIFIED:20251201T135844Z
UID:4690-1762885800-1762894800@spectrum-ehcs.com
SUMMARY:Discussion Dinner: Global Data Centre Ecosystem\, November 2025
DESCRIPTION:On the evening of 11th November in Mayfair\, London\, in partnership with Vault Partners\, Spectrum curated a group of board-level leaders from across the European data centre supply chain for a peer group discussion over dinner\, and the opportunity to network. \nThe two core topics explored on the night were: \nPowering the data centre \nThe energy consumption of data centres is substantial\, as power and cooling requirements are significant. \nWe explored the primary implications for the industry\, including: \n\nEnergy supply and cost as a factor in new data centre locations\nThe role of batteries\, and of alternative sources of energy (which can’t feed into the grid)\nThe pros and cons of nuclear power as a solution\nEnergy regulation\nThe ageing electricity grid network\nThe perception of data centres by politicians and the public\, and the need for the industry to collectively present and justify its case\n\nDeployment of capital \nThe data centre sector is attracting enormous investment. This segment of the discussion focused on: \n\nThe difference between investing in infrastructure (7–8-year payback) and investing in Neoclouds\, and GPUs (2–3-year return)\nThe expectation that the total addressable market for AI will expand\nThe key question of time to adoption: How quickly are enterprises going to use AI at scale?\nAnd what are the use cases? i.e. where is the revenue coming from to sustain the investment in CAPEX?\nThe circulation of funding i.e. the industry supporting each other with capital\nData centre tenant renewal risk\nCredit risk\nGeopolitical risk\n\n  \nThis event was co-hosted by Daniel Osmer\, Managing Partner\, Spectrum Executive Search and Jeremy Sewell\, Vault Partners. \nOur 19 guests were board-level representatives from: Kevlinx Data Centres\, Macquarie Group\, Polar Data Centres\, Yuso\, CloudHQ\, Ingenium LA\, JLL\, Gulf Data Centre Association\, Digital Gravity Infrastructure Partners\, Ark Data Centres\, Digital Bridge\, Deutsche Bank\, CoreWeave\, H.I.G. Capital\, HPE\, and Stellanor Data Centres.
URL:https://spectrum-ehcs.com/new-event/data-centre-dinner-in-central-london/
LOCATION:The Lansdowne Club\, London\, United Kingdom
CATEGORIES:Dinner
END:VEVENT
BEGIN:VEVENT
DTSTART;TZID=Europe/London:20250509T080000
DTEND;TZID=Europe/London:20250509T103000
DTSTAMP:20260422T112315
CREATED:20250227T105233Z
LAST-MODIFIED:20250805T131928Z
UID:4485-1746777600-1746786600@spectrum-ehcs.com
SUMMARY:Breakfast Session: from strategic intent to successful operational delivery – a facilitated event for Board Chairs & their CEOs\, 9th May 2025
DESCRIPTION:Chair members of Spectrum’s board platform\, tmtboardfinder\, and Board Chairs in our broader network are invited to attend this complimentary session\, to be accompanied by 3-4 of their CEOs. \nIts purpose is two-fold: \n\nTo provide a safe environment for your CEOs to meet in person\, to share perspectives\, and to collaborate\,\nTo specifically explore how best to translate strategic board intent into successful operational delivery by the management teams.\n\nChris Paton\, a former Lieutenant Colonel in the Royal Marines\, and advisor to the UK Cabinet and National Security Council on the Afghan strategy from 2009-2012\, will lead this group session. Chris’s consultancy specialises in organisational effectiveness. His work has been published in the Harvard Business Review\, and he co-produced the book ‘Purposeful People – Business Leaders Making a Difference’. \nThe session will run from 8.15am-10.30am in central London on Friday 9th May and will accommodate 3 Chairs\, and their CEOs. \n“Chris has not only been the instigator to bring together the CEOs I work with as a Chair but has been a superb facilitator in our subsequent sessions together. He has helped us openly and honestly discuss common challenges from achieving strategic alignment to empowering the team and owning succession planning. The evidence of value has been the CEOs’ insistence that we now reconvene regularly.” (tmtboardfinder member\, Mark Whitby). \nTo find out more\, or to register your interest\, please contact Gemma Hubert.
URL:https://spectrum-ehcs.com/new-event/forthcoming-breakfast-session-from-strategic-intent-to-successful-operational-delivery-a-facilitated-event-for-board-chairs-their-ceos-9th-may-2025/
CATEGORIES:Dinner
END:VEVENT
BEGIN:VEVENT
DTSTART;TZID=Europe/London:20250507T180000
DTEND;TZID=Europe/London:20250507T200000
DTSTAMP:20260422T112315
CREATED:20250401T092959Z
LAST-MODIFIED:20250805T132114Z
UID:4502-1746640800-1746648000@spectrum-ehcs.com
SUMMARY:Quoted Companies Alliance\, The QCA City Debate\, 7th May 2025
DESCRIPTION:tmtboardfinder is pleased to support the QCA’s upcoming City Debate in London:  “This House believes growing companies best thrive on public markets.” \nThe government and the city each recognise the need for more economic growth\, which means more growing companies. But where will they prosper best? On the public markets\, with better governance and visibility\, or backed by private capital? \nOn 7th May 2025\, the QCA City Debate will explore both sides of the issue\, offer insights into current thinking\, and attempt to divine the best way forward. \nBarry Gamble will chair the debate\, guiding two teams of debaters as they present their cases for and against the motion. The event will be highly interactive with contributions taken from the floor and voting at the beginning and end. \nFor details on how to join this evening of collective discourse and networking\, visit the QCA website here.
URL:https://spectrum-ehcs.com/new-event/quoted-companies-alliance-the-qca-city-debate-may-07-6pm-8-30pm/
CATEGORIES:Dinner
END:VEVENT
BEGIN:VEVENT
DTSTART;TZID=Europe/London:20241125T183000
DTEND;TZID=Europe/London:20241125T210000
DTSTAMP:20260422T112315
CREATED:20241016T084147Z
LAST-MODIFIED:20250624T161120Z
UID:4434-1732559400-1732568400@spectrum-ehcs.com
SUMMARY:Discussion Dinner: for UK PLC board members\, November 2024
DESCRIPTION:NEDs\, SIDs\, Chairs\, and CEOs at TMT sector organisations publicly listed in the UK are warmly invited to join us for this private ‘Chatham House Rule’ discussion and networking opportunity over dinner. \nAttendance is complimentary\, courtesy of Spectrum’s board practice\, tmtboardfinder\, and our co-hosts\, Edison Investment Research. \nOur venue is a private dining room at a member’s club in Mayfair\, and the evening runs from 6.30pm-9pm on Monday 25th November. \nTo register your interest in attending\, please email Gemma Hubert at gemma.hubert@spectrum-ehcs.com.
URL:https://spectrum-ehcs.com/new-event/discussion-dinner-for-uk-plc-board-members-november-2024/
LOCATION:The Lansdowne Club\, London\, United Kingdom
CATEGORIES:Dinner
END:VEVENT
BEGIN:VEVENT
DTSTART;TZID=Europe/London:20240603T180000
DTEND;TZID=Europe/London:20240603T200000
DTSTAMP:20260422T112315
CREATED:20240318T172018Z
LAST-MODIFIED:20250805T132245Z
UID:4317-1717437600-1717444800@spectrum-ehcs.com
SUMMARY:Discussion Dinner: Coming to America - US expansion and fundraising\, June 2024
DESCRIPTION:For many high-growth enterprises\, there’s nowhere better to start and grow than the UK\, and nowhere better to expand and raise later-stage funding than the United States.  The US offers the promise of massive commercial opportunities and plentiful venture and growth capital.  However\, doing business and raising money in an unfamiliar\, highly competitive environment requires thoughtful planning and clinical execution. \nIn this facilitated Q&A session over dinner\, we will discuss best practices for navigating the logistical aspects of launching and operating a UK business in the States and setting and meeting expectations for US later-stage funding. \nWe’ll address questions\, such as: \nWhen should I consider establishing US operations? \nWhen should I look to raise money from US VCs? \nDo I need a US company to raise money from US VCs? \nWhen do I need to create a US company? \nWhere is the best place to set up in the States? \nHow long does US set-up take and how much does it cost? \nHow do I sell/pitch in the US as a British/non-US founder? \nHow is hiring different in the US\, and what’s the optimal US team? \nDoes everyone really sue each other all the time in the US? \nAre there government resources to assist with US expansion? \nThe discussion will be led by Daniel Glazer\, who leads the US Expansion group and London office at Silicon Valley-headquartered Wilson Sonsini.  Wilson Sonsini represents more tech companies on their venture financings\, M&A transactions\, and IPOs than any other law firm globally.  The firm is a Silicon Valley “anchor tenant\,” having taken public Apple\, Doordash\, Google\, Linkedin\, Lyft\, Netflix\, Palantir\, Roblox\, Square\, Twitter\, and many others.  Wilson Sonsini London is a US and dual-qualified UK/US team that supports UK/EU tech and life sciences companies through their US life cycle – US launch and scaling\, US fundraising\, and US M&A/IPO exit.
URL:https://spectrum-ehcs.com/new-event/discussion-dinner-coming-to-america-us-expansion-and-fundraising/
CATEGORIES:Dinner
ORGANIZER;CN="Daniel Osmer":MAILTO:daniel.osmer@spectrum-ehcs.com
END:VEVENT
END:VCALENDAR