BEGIN:VCALENDAR
VERSION:2.0
PRODID:-//Spectrum Board and Executive Search - ECPv6.15.13.1//NONSGML v1.0//EN
CALSCALE:GREGORIAN
METHOD:PUBLISH
X-ORIGINAL-URL:https://spectrum-ehcs.com
X-WR-CALDESC:Events for Spectrum Board and Executive Search
REFRESH-INTERVAL;VALUE=DURATION:PT1H
X-Robots-Tag:noindex
X-PUBLISHED-TTL:PT1H
BEGIN:VTIMEZONE
TZID:Europe/London
BEGIN:DAYLIGHT
TZOFFSETFROM:+0000
TZOFFSETTO:+0100
TZNAME:BST
DTSTART:20250330T010000
END:DAYLIGHT
BEGIN:STANDARD
TZOFFSETFROM:+0100
TZOFFSETTO:+0000
TZNAME:GMT
DTSTART:20251026T010000
END:STANDARD
BEGIN:DAYLIGHT
TZOFFSETFROM:+0000
TZOFFSETTO:+0100
TZNAME:BST
DTSTART:20260329T010000
END:DAYLIGHT
BEGIN:STANDARD
TZOFFSETFROM:+0100
TZOFFSETTO:+0000
TZNAME:GMT
DTSTART:20261025T010000
END:STANDARD
BEGIN:DAYLIGHT
TZOFFSETFROM:+0000
TZOFFSETTO:+0100
TZNAME:BST
DTSTART:20270328T010000
END:DAYLIGHT
BEGIN:STANDARD
TZOFFSETFROM:+0100
TZOFFSETTO:+0000
TZNAME:GMT
DTSTART:20271031T010000
END:STANDARD
END:VTIMEZONE
BEGIN:VEVENT
DTSTART;TZID=Europe/London:20260116T100000
DTEND;TZID=Europe/London:20260116T103000
DTSTAMP:20260421T065318
CREATED:20251002T101458Z
LAST-MODIFIED:20251110T135354Z
UID:4685-1768557600-1768559400@spectrum-ehcs.com
SUMMARY:Webinar: Optimising your board profile
DESCRIPTION:The demands and expectations of board members in today’s world is increasing and will continue to do so. \nNo longer does a stellar executive career guarantee access to the best board opportunities. \nIn this seminar\, I will cover: \n\nwhat the market wants from board members when recruiting;\nhow you can best structure your board profile;\nhow to create a compelling and memorable board value proposition;\nhow to differentiate yourself from the crowd.\n\nAs always\, we’ll be getting straight to the point and provide practical guidance\, as well as answering questions. \n  \nPlease register for this webinar here.
URL:https://spectrum-ehcs.com/new-event/webinar-optimising-your-board-profile/
LOCATION:Online
END:VEVENT
BEGIN:VEVENT
DTSTART;TZID=Europe/London:20260320T123000
DTEND;TZID=Europe/London:20260320T130000
DTSTAMP:20260421T065318
CREATED:20260227T094918Z
LAST-MODIFIED:20260302T140111Z
UID:4779-1774009800-1774011600@spectrum-ehcs.com
SUMMARY:Upcoming Webinar - an AI introduction for boards
DESCRIPTION:Talk of AI is seemingly ubiquitous. There is no escape…. \n\nBut what really is artificial intelligence?\nWhat is the likely impact – profound opportunities & existential threats to organisations? Or just a bit\, well\, meh?\nIs AI a board-level topic? If so\, how do boards approach artificial intelligence optimally?\n\nDon’t know your LLMs from your agentic? \nNot sure how your organisation should be responding to AI? \nLack confidence that your board has the right skills to make big AI calls? \nNot sure how to garner investor support for AI-related initiatives? \nThen join Simon Poole of GroundedThinking.AI and Daniel Osmer for a punchy half-hour seminar in which we’ll start to address the key elements of AI for boards to navigate. \nRegister for this event here.
URL:https://spectrum-ehcs.com/new-event/upcoming-webinar-an-ai-introduction-for-boards/
CATEGORIES:Webinar
END:VEVENT
END:VCALENDAR