BEGIN:VCALENDAR
VERSION:2.0
PRODID:-//Spectrum Board and Executive Search - ECPv6.15.13.1//NONSGML v1.0//EN
CALSCALE:GREGORIAN
METHOD:PUBLISH
X-WR-CALNAME:Spectrum Board and Executive Search
X-ORIGINAL-URL:https://spectrum-ehcs.com
X-WR-CALDESC:Events for Spectrum Board and Executive Search
REFRESH-INTERVAL;VALUE=DURATION:PT1H
X-Robots-Tag:noindex
X-PUBLISHED-TTL:PT1H
BEGIN:VTIMEZONE
TZID:Europe/London
BEGIN:DAYLIGHT
TZOFFSETFROM:+0000
TZOFFSETTO:+0100
TZNAME:BST
DTSTART:20230326T010000
END:DAYLIGHT
BEGIN:STANDARD
TZOFFSETFROM:+0100
TZOFFSETTO:+0000
TZNAME:GMT
DTSTART:20231029T010000
END:STANDARD
BEGIN:DAYLIGHT
TZOFFSETFROM:+0000
TZOFFSETTO:+0100
TZNAME:BST
DTSTART:20240331T010000
END:DAYLIGHT
BEGIN:STANDARD
TZOFFSETFROM:+0100
TZOFFSETTO:+0000
TZNAME:GMT
DTSTART:20241027T010000
END:STANDARD
BEGIN:DAYLIGHT
TZOFFSETFROM:+0000
TZOFFSETTO:+0100
TZNAME:BST
DTSTART:20250330T010000
END:DAYLIGHT
BEGIN:STANDARD
TZOFFSETFROM:+0100
TZOFFSETTO:+0000
TZNAME:GMT
DTSTART:20251026T010000
END:STANDARD
END:VTIMEZONE
BEGIN:VEVENT
DTSTART;TZID=Europe/London:20240514T123000
DTEND;TZID=Europe/London:20240514T130000
DTSTAMP:20260421T014019
CREATED:20240318T171607Z
LAST-MODIFIED:20250805T132336Z
UID:3720-1715689800-1715691600@spectrum-ehcs.com
SUMMARY:Webinar Recording: Family Offices and the TMT Sector\, May 2024
DESCRIPTION:Family Offices are typically less well understood than private equity and venture capital. How do family offices view our sector\, and why should we embrace the family office approach? Stonehage Fleming advises many of the world’s leading families and wealth creators\, and we are delighted to be joined by Partner\, Richard Hill\, to gain a rare insight into this asset class.
URL:https://spectrum-ehcs.com/new-event/family-offices-and-the-tmt-sector/
LOCATION:Online
CATEGORIES:Webinar
ATTACH;FMTTYPE=image/jpeg:https://spectrum-ehcs.com/wp-content/uploads/2024/03/Webinar-Featured-3.jpg
ORGANIZER;CN="Gemma Hubert":MAILTO:gemma.hubert@spectrum-ehcs.com
END:VEVENT
BEGIN:VEVENT
DTSTART;TZID=Europe/London:20240507T123000
DTEND;TZID=Europe/London:20240507T130000
DTSTAMP:20260421T014019
CREATED:20240318T171333Z
LAST-MODIFIED:20250805T132357Z
UID:3717-1715085000-1715086800@spectrum-ehcs.com
SUMMARY:Webinar Recording: Personal Exit Planning for CEOs and Entrepreneurs\, May 2024
DESCRIPTION:CEOs and entrepreneurs tend to focus 100% on their business\, and their own needs often come a distant second. \nBut\, it’s a good idea to pre-plan for the psychological and financial transformation that a positive exit entails. \nIn this webinar\, Ben Stern\, Partner at Lincoln Private Investment Office guides us through what entrepreneurs and shareholding management should consider pre-exit\, and why.
URL:https://spectrum-ehcs.com/new-event/personal-exit-planning-for-entrepreneurs/
LOCATION:Online
CATEGORIES:Webinar
ATTACH;FMTTYPE=image/jpeg:https://spectrum-ehcs.com/wp-content/uploads/2024/03/Webinar-Featured-3.jpg
ORGANIZER;CN="Gemma Hubert":MAILTO:gemma.hubert@spectrum-ehcs.com
END:VEVENT
BEGIN:VEVENT
DTSTART;TZID=Europe/London:20240419T123000
DTEND;TZID=Europe/London:20240419T130000
DTSTAMP:20260421T014019
CREATED:20240418T124156Z
LAST-MODIFIED:20250805T132420Z
UID:3712-1713529800-1713531600@spectrum-ehcs.com
SUMMARY:Webinar Recording: Diary of a Novice NED\, 3 Years On\, April 2024
DESCRIPTION:A practical guide to successfully building a board portfolio career with innovative\, investor-backed technology companies. Martin Fincham’s NED “L plates” have long since been discarded – what can we learn about building and maintaining a successful plural career?
URL:https://spectrum-ehcs.com/new-event/diary-of-a-novice-ned-3-years-on/
LOCATION:Online
CATEGORIES:Webinar
ATTACH;FMTTYPE=image/jpeg:https://spectrum-ehcs.com/wp-content/uploads/2024/03/Webinar-Featured-3.jpg
ORGANIZER;CN="Gemma Hubert":MAILTO:gemma.hubert@spectrum-ehcs.com
END:VEVENT
BEGIN:VEVENT
DTSTART;TZID=Europe/London:20240401T123000
DTEND;TZID=Europe/London:20240401T130000
DTSTAMP:20260421T014019
CREATED:20240401T095327Z
LAST-MODIFIED:20250805T132441Z
UID:4398-1711974600-1711976400@spectrum-ehcs.com
SUMMARY:Webinar Recording: Cyber Governance for Boards\, March 2024
DESCRIPTION:Cyber security is a relatively new\, fast evolving\, and substantial threat to organisations – and boards need to raise their game in cybersecurity oversight\, but non-executives need more support to do that. \nOur lead contributor is Jessica Figueras from CxB: Cyber Governance for Boards. CxB was created by a group of experienced NEDs and trustees with who were concerned to see a widespread lack of board engagement with increasingly serious cybersecurity threats.
URL:https://spectrum-ehcs.com/new-event/webinar-recording-cyber-governance/
LOCATION:Online
CATEGORIES:Webinar
END:VEVENT
END:VCALENDAR